{
 "currentVersion": 10.5,
 "serviceDescription": "Global Cyclone Hazard Frequency and Distribution, v1 (1980-\u200a2000) displays frequency of cyclones based on more than 1,600 storm tracks for the period 1 January 1980 through 31 December 2000 for the Atlantic, Pacific, and Indian Oceans. The purpose is to provide a means of assessing the relative distribution and frequency of global cyclone hazard. See more information at http://dx.doi.org/10.7927/H4CZ353K.\n\nDataset Summary: \nGlobal Cyclone Hazard Frequency and Distribution is a 2.5 minute grid based on more than 1,600 storm tracks for the period 1 January 1980 through 31 December 2000 for the Atlantic, Pacific, and Indian Oceans that were assembled and modeled at UNEP/GRID-Geneva PreView. Windspeeds around storm tracks were modeled using Holland's model (1997) to assess the grid cells likely to have been exposed to high wind levels. Post-modeling, the cells were divided into deciles, 10 classes consisting of approximately equal number of grid cells. The higher the value of the grid cell, the higher the decile ranking and the greater the frequency of the hazard relative to other cells. This data set is the result of collaboration among the Columbia University Center for Hazards and Risk Research (CHRR), International Bank for Reconstruction and Development/The World Bank, United Nations Environment Programme Global Resource Information Database Geneva (UNEP/GRID-Geneva), and Columbia University Center for International Earth Science Information Network (CIESIN).\n\nRecommended Citation: \nCenter for Hazards and Risk Research - CHRR - Columbia University, Center for International Earth Science Information Network - CIESIN - Columbia University, International Bank for Reconstruction and Development - The World Bank, and United Nations Environment Programme Global Resource Information Database Geneva - UNEP/GRID-Geneva. 2005. Global Cyclone Hazard Frequency and Distribution. Palisades, NY: NASA Socioeconomic Data and Applications Center (SEDAC). http://dx.doi.org/10.7927/H4CZ353K. Accessed DAY MONTH YEAR.",
 "name": "sedac/ndh_cyclone_hazard_frequency_distribution",
 "description": "Global Cyclone Hazard Frequency and Distribution, v1 (1980-\u200a2000) displays frequency of cyclones based on more than 1,600 storm tracks for the period 1 January 1980 through 31 December 2000 for the Atlantic, Pacific, and Indian Oceans. The purpose is to provide a means of assessing the relative distribution and frequency of global cyclone hazard. See more information at http://dx.doi.org/10.7927/H4CZ353K.\n\nDataset Summary: \nGlobal Cyclone Hazard Frequency and Distribution is a 2.5 minute grid based on more than 1,600 storm tracks for the period 1 January 1980 through 31 December 2000 for the Atlantic, Pacific, and Indian Oceans that were assembled and modeled at UNEP/GRID-Geneva PreView. Windspeeds around storm tracks were modeled using Holland's model (1997) to assess the grid cells likely to have been exposed to high wind levels. Post-modeling, the cells were divided into deciles, 10 classes consisting of approximately equal number of grid cells. The higher the value of the grid cell, the higher the decile ranking and the greater the frequency of the hazard relative to other cells. This data set is the result of collaboration among the Columbia University Center for Hazards and Risk Research (CHRR), International Bank for Reconstruction and Development/The World Bank, United Nations Environment Programme Global Resource Information Database Geneva (UNEP/GRID-Geneva), and Columbia University Center for International Earth Science Information Network (CIESIN).\n\nRecommended Citation: \nCenter for Hazards and Risk Research - CHRR - Columbia University, Center for International Earth Science Information Network - CIESIN - Columbia University, International Bank for Reconstruction and Development - The World Bank, and United Nations Environment Programme Global Resource Information Database Geneva - UNEP/GRID-Geneva. 2005. Global Cyclone Hazard Frequency and Distribution. Palisades, NY: NASA Socioeconomic Data and Applications Center (SEDAC). http://dx.doi.org/10.7927/H4CZ353K. Accessed DAY MONTH YEAR.",
 "extent": {
  "xmin": -2.0037330231603973E7,
  "ymin": -7970484.358259941,
  "xmax": 2.003725230796042E7,
  "ymax": 1.9992245275742117E7,
  "spatialReference": {
   "wkid": 102100,
   "latestWkid": 3857
  }
 },
 "initialExtent": {
  "xmin": -2.0037330231603973E7,
  "ymin": -7970484.358259941,
  "xmax": 2.003725230796042E7,
  "ymax": 1.9992245275742117E7,
  "spatialReference": {
   "wkid": 102100,
   "latestWkid": 3857
  }
 },
 "fullExtent": {
  "xmin": -2.0037330231603973E7,
  "ymin": -7970484.358259941,
  "xmax": 2.003725230796042E7,
  "ymax": 1.9992245275742117E7,
  "spatialReference": {
   "wkid": 102100,
   "latestWkid": 3857
  }
 },
 "pixelSizeX": 4642.022766079508,
 "pixelSizeY": 4642.022766079508,
 "bandCount": 3,
 "pixelType": "U8",
 "minPixelSize": 305.7481131405573,
 "maxPixelSize": 78271.51696399986,
 "copyrightText": "Center for Hazards and Risk Research - CHRR - Columbia University, Center for International Earth Science Information Network - CIESIN - Columbia University, International Bank for Reconstruction and Development - The World Bank, and United Nations Environment Programme Global Resource Information Database Geneva - UNEP/GRID-Geneva.",
 "serviceDataType": "esriImageServiceDataTypeRGB",
 "minValues": [],
 "maxValues": [],
 "meanValues": [],
 "stdvValues": [],
 "objectIdField": "",
 "fields": [],
 "capabilities": "Image,Metadata,Mensuration",
 "defaultMosaicMethod": "Center",
 "allowedMosaicMethods": "",
 "sortField": "",
 "sortValue": null,
 "mosaicOperator": "First",
 "defaultCompressionQuality": 75,
 "defaultResamplingMethod": "Bilinear",
 "maxImageHeight": 4100,
 "maxImageWidth": 15000,
 "singleFusedMapCache": true,
 "tileInfo": {
  "rows": 256,
  "cols": 256,
  "dpi": 96,
  "format": "MIXED",
  "compressionQuality": 75,
  "origin": {
   "x": -2.0037508342787E7,
   "y": 2.0037508342787E7
  },
  "spatialReference": {
   "wkid": 102100,
   "latestWkid": 3857
  },
  "lods": [
   {
    "level": 0,
    "resolution": 156543.033928,
    "scale": 5.91657527591555E8
   },
   {
    "level": 1,
    "resolution": 78271.5169639999,
    "scale": 2.95828763795777E8
   },
   {
    "level": 2,
    "resolution": 39135.7584820001,
    "scale": 1.47914381897889E8
   },
   {
    "level": 3,
    "resolution": 19567.8792409999,
    "scale": 7.3957190948944E7
   },
   {
    "level": 4,
    "resolution": 9783.93962049996,
    "scale": 3.6978595474472E7
   },
   {
    "level": 5,
    "resolution": 4891.96981024998,
    "scale": 1.8489297737236E7
   },
   {
    "level": 6,
    "resolution": 2445.98490512499,
    "scale": 9244648.868618
   },
   {
    "level": 7,
    "resolution": 1222.99245256249,
    "scale": 4622324.434309
   },
   {
    "level": 8,
    "resolution": 611.49622628138,
    "scale": 2311162.217155
   },
   {
    "level": 9,
    "resolution": 305.748113140558,
    "scale": 1155581.108577
   },
   {
    "level": 10,
    "resolution": 152.874056570411,
    "scale": 577790.554289
   },
   {
    "level": 11,
    "resolution": 76.4370282850732,
    "scale": 288895.277144
   },
   {
    "level": 12,
    "resolution": 38.2185141425366,
    "scale": 144447.638572
   },
   {
    "level": 13,
    "resolution": 19.1092570712683,
    "scale": 72223.819286
   },
   {
    "level": 14,
    "resolution": 9.55462853563415,
    "scale": 36111.909643
   },
   {
    "level": 15,
    "resolution": 4.77731426794937,
    "scale": 18055.954822
   },
   {
    "level": 16,
    "resolution": 2.38865713397468,
    "scale": 9027.977411
   },
   {
    "level": 17,
    "resolution": 1.19432856685505,
    "scale": 4513.988705
   },
   {
    "level": 18,
    "resolution": 0.597164283559817,
    "scale": 2256.994353
   },
   {
    "level": 19,
    "resolution": 0.298582141647617,
    "scale": 1128.497176
   }
  ]
 },
 "cacheType": "Map",
 "allowRasterFunction": true,
 "rasterFunctionInfos": [
  {
   "name": "None",
   "description": "",
   "help": ""
  }
 ],
 "rasterTypeInfos": [
  {
   "name": "Raster Dataset",
   "description": "Supports all ArcGIS Raster Datasets",
   "help": ""
  }
 ],
 "mensurationCapabilities": "Basic",
 "hasHistograms": false,
 "hasColormap": false,
 "hasRasterAttributeTable": false,
 "minScale": 2.95828763795777E8,
 "maxScale": 1155581.108577,
 "exportTilesAllowed": false,
 "hasMultidimensions": false,
 "supportsStatistics": false,
 "supportsAdvancedQueries": false,
 "editFieldsInfo": null,
 "ownershipBasedAccessControlForRasters": null,
 "allowComputeTiePoints": false,
 "useStandardizedQueries": true,
 "advancedQueryCapabilities": {
  "useStandardizedQueries": true,
  "supportsStatistics": false,
  "supportsOrderBy": false,
  "supportsDistinct": false,
  "supportsPagination": false
 },
 "spatialReference": {
  "wkid": 102100,
  "latestWkid": 3857
 }
}
