View In:
ArcGIS JavaScript
ArcGIS Online map viewer
Google Earth
ArcMap
ArcGIS Explorer
View Footprint In:
ArcGIS Online map viewer
Service Description: The Altimeter Corrected Elevations, Version 2 (ACE2) data set, is the Global Digital Elevation Model (GDEM) created by using multi-mission Satellite Radar Altimetry with the Shuttle Radar Topography Mission (SRTM). It was created by synergistically merging the SRTM data set with Satellite Radar Altimetry within the region bounded by 60°N and 60°S. Over the areas lying outside the SRTM latitude limits, other sources have been used including Global Observations to Benefit the Environment (GLOBE) and the original Altimeter Corrected Elevations (ACE) Digital Elevation Model (DEM), together with new matrices derived from reprocessing the European Remote Sensing (ERS-1) Geodetic Mission data set with an enhanced re-tracking system, and the inclusion of data from other satellites. ACE2 was developed at resolutions of 3, 9 and 30 arc-seconds, and 5 arc-minutes. The data are distributed in little-endian format as 15 degree by 15 degree tiles, with the name referring to the southwestern edge of the southwestern most pixel.
Map Name: Layers
Legend
All Layers and Tables
Dynamic Legend
Dynamic All Layers
Layers:
Description:
Copyright Text: ESA, NASA SEDAC
Spatial Reference:
102100
(3857)
Single Fused Map Cache: true
Tile Info:
- Height: 256
- Width: 256
- DPI: 96
-
Levels of Detail: 20
-
Level ID: 1
[ Start Tile, End Tile ]
- Resolution: 78271.5169639999
- Scale: 2.95828763795777E8
-
Level ID: 2
[ Start Tile, End Tile ]
- Resolution: 39135.7584820001
- Scale: 1.47914381897889E8
-
Level ID: 3
[ Start Tile, End Tile ]
- Resolution: 19567.8792409999
- Scale: 7.3957190948944E7
-
Level ID: 4
[ Start Tile, End Tile ]
- Resolution: 9783.93962049996
- Scale: 3.6978595474472E7
-
Level ID: 5
[ Start Tile, End Tile ]
- Resolution: 4891.96981024998
- Scale: 1.8489297737236E7
- Format: PNG
- Compression Quality: 0.0
- Origin: X: -2.0037508342787E7
Y: 2.0037508342787E7
- Spatial Reference: 102100
(3857)
Initial Extent:
XMin: -4.4234931261510134E7
YMin: -1.3418208774639007E7
XMax: 4.4234932292733625E7
YMax: 3.326515096062615E7
Spatial Reference: 102100
Full Extent:
XMin: -2.0037507842788246E7
YMin: -3.0242618586413834E7
XMax: 2.0037508874011744E7
YMax: 3.024097145838615E7
Spatial Reference: 102100
Units: esriMeters
Supported Image Format Types: PNG32,PNG24,PNG,JPG,DIB,TIFF,EMF,PS,PDF,GIF,SVG,SVGZ,BMP
Document Info:
Title: Altimeter Corrected Elevations (ACE2), v2 (1994-2005)
Author: Berry, P. A. M., R. Smith, and J. Benveniste. 2010. ACE2: The New Global Digital Elevation Model. In: Merrltika, S. (eds) Gravity, Geoid and Earth Observation, International Association of Geodesy Symposia 135: 231-237. Berlin, Heidelberg: Springer. https://doi.org/10.1007/978-3-642-10634-7_30.
Comments: The Altimeter Corrected Elevations, Version 2 (ACE2) data set, is the Global Digital Elevation Model (GDEM) created by using multi-mission Satellite Radar Altimetry with the Shuttle Radar Topography Mission (SRTM). It was created by synergistically merging the SRTM data set with Satellite Radar Altimetry within the region bounded by 60°N and 60°S. Over the areas lying outside the SRTM latitude limits, other sources have been used including Global Observations to Benefit the Environment (GLOBE) and the original Altimeter Corrected Elevations (ACE) Digital Elevation Model (DEM), together with new matrices derived from reprocessing the European Remote Sensing (ERS-1) Geodetic Mission data set with an enhanced re-tracking system, and the inclusion of data from other satellites. ACE2 was developed at resolutions of 3, 9 and 30 arc-seconds, and 5 arc-minutes. The data are distributed in little-endian format as 15 degree by 15 degree tiles, with the name referring to the southwestern edge of the southwestern most pixel.
Subject: To provide satellite altimeter corrected digital elevation data for environmental, socioeconomic, climate and other related research.
Category:
Keywords: Elevation,SRTM,ACE
AntialiasingMode: None
TextAntialiasingMode: Force
Supports Dynamic Layers: true
MaxRecordCount: 1000
MaxImageHeight: 4096
MaxImageWidth: 4096
Supported Query Formats: JSON, AMF, geoJSON
Min Scale: 5.91657527591555E8
Max Scale: 1155581.108577
Supports Datum Transformation: true
Child Resources:
Info
Dynamic Layer
Supported Operations:
Export Map
Identify
Find
Return Updates