View In:
ArcGIS JavaScript
ArcGIS Online map viewer
Google Earth
ArcMap
ArcGIS Explorer
View Footprint In:
ArcGIS Online map viewer
Service Description: The 2015 VIIRS/MODIS Urban Extents Using Neural Network Method map layer is part of the 2015 Urban Extents from VIIRS and MODIS for the Continental U.S. Using Machine Learning Methods data set. It models urban settlements as of 2015 with input data from two types of satellite imagery: Visible Infrared Imaging Radiometer Suite (VIIRS) Nighttime Light (NTL) data from the Day/Night Band (DNB), and Moderate Resolution Imaging Spectroradiometer (MODIS) corrected daytime Normalized Difference Vegetation Index (NDVI). After several machine learning methods including Random Forest (RF), Gradient Boosting Machine, Neural Network (NN), and Enterprise Service Bus (ESB) were evaluated, the NN method shown here had the highest accuracy in predicting urban extent at 500 meter resolution. See more information at: https://doi.org/10.7927/a49b-sm16.
Map Name: Layers
Legend
All Layers and Tables
Dynamic Legend
Dynamic All Layers
Layers:
Description:
Copyright Text: NASA SEDAC
Spatial Reference:
102100
(3857)
Single Fused Map Cache: true
Tile Info:
- Height: 256
- Width: 256
- DPI: 96
-
Levels of Detail: 20
-
Level ID: 0
[ Start Tile, End Tile ]
- Resolution: 156543.03392800014
- Scale: 5.91657527591555E8
-
Level ID: 1
[ Start Tile, End Tile ]
- Resolution: 78271.51696399994
- Scale: 2.95828763795777E8
-
Level ID: 2
[ Start Tile, End Tile ]
- Resolution: 39135.75848200009
- Scale: 1.47914381897889E8
-
Level ID: 3
[ Start Tile, End Tile ]
- Resolution: 19567.87924099992
- Scale: 7.3957190948944E7
-
Level ID: 4
[ Start Tile, End Tile ]
- Resolution: 9783.93962049996
- Scale: 3.6978595474472E7
-
Level ID: 5
[ Start Tile, End Tile ]
- Resolution: 4891.96981024998
- Scale: 1.8489297737236E7
- Format: MIXED
- Compression Quality: 75.0
- Origin: X: -2.0037508342787E7
Y: 2.0037508342787E7
- Spatial Reference: 102100
(3857)
Initial Extent:
XMin: -1.3496838692707656E7
YMin: 3632461.813632687
XMax: -7843661.307781359
YMax: 7602317.714306007
Spatial Reference: 102100
Full Extent:
XMin: -1.3885500000246223E7
YMin: 2870242.7834959277
XMax: -7455000.000242797
YMax: 6338886.058989692
Spatial Reference: 102100
Units: esriMeters
Supported Image Format Types: PNG32,PNG24,PNG,JPG,DIB,TIFF,EMF,PS,PDF,GIF,SVG,SVGZ,BMP
Document Info:
Title: 2015 VIIRS/MODIS Urban Extents Using Neural Network Method
Author:
Comments: The 2015 VIIRS/MODIS Urban Extents Using Neural Network Method map layer is part of the 2015 Urban Extents from VIIRS and MODIS for the Continental U.S. Using Machine Learning Methods data set. It models urban settlements as of 2015 with input data from two types of satellite imagery: Visible Infrared Imaging Radiometer Suite (VIIRS) Nighttime Light (NTL) data from the Day/Night Band (DNB), and Moderate Resolution Imaging Spectroradiometer (MODIS) corrected daytime Normalized Difference Vegetation Index (NDVI). After several machine learning methods including Random Forest (RF), Gradient Boosting Machine, Neural Network (NN), and Enterprise Service Bus (ESB) were evaluated, the NN method shown here had the highest accuracy in predicting urban extent at 500 meter resolution. See more information at: https://doi.org/10.7927/a49b-sm16.
Subject: To provide representations of urban areas in the Continental U.S. in the year 2015.
Category:
Keywords: urban,nighttime lights,urbanspatial-urban-extents-viirs-modis-us-2015
AntialiasingMode: None
TextAntialiasingMode: Force
Supports Dynamic Layers: true
MaxRecordCount: 1000
MaxImageHeight: 4096
MaxImageWidth: 4096
Supported Query Formats: JSON, AMF, geoJSON
Min Scale: 9244648.868618
Max Scale: 36111.909643
Supports Datum Transformation: true
Child Resources:
Info
Dynamic Layer
Supported Operations:
Export Map
Identify
Find
Return Updates