View In:
ArcGIS JavaScript
ArcGIS Online map viewer
Google Earth
ArcMap
ArcGIS Explorer
View Footprint In:
ArcGIS Online map viewer
Service Description: Last of the Wild, v2 represents the least human influenced or wild areas of major terrestrial biomes based on the Human Footprint Index data set. The purpose is to provide an updated map of wild areas in geographic projection which can be used in wildlife conservation planning, natural resource management, and research on human-environment interactions.
Dataset Summary
The Last of the Wild Dataset of the Last of the Wild Project, Version 2, 2005 (LWP-2) is derived from the LWP-2 Human Footprint Dataset. Most wild in each biome is defined as areas with Human Footprint Index values less than or equal to 10. The gridded data are classified according to their raster value (wild = 0-10; not wild >10). The ten largest polygons of more than 5 square kilometers within each biome by realm are selected and identified. The dataset is produced by the Wildlife Conservation Society (WCS) and the Columbia University Center for International Earth Science Information Network (CIESIN) and is available in the Geographic Coordinate system.
Recommended Citation:
Wildlife Conservation Society - WCS, and Center for International Earth Science Information Network - CIESIN - Columbia University. 2005. Last of the Wild Project, Version 2, 2005 (LWP-2): Last of the Wild Dataset (Geographic). Palisades, NY: NASA Socioeconomic Data and Applications Center (SEDAC). http://dx.doi.org/10.7927/H4348H83. Accessed DAY MONTH YEAR.
Map Name: Layers
Legend
All Layers and Tables
Layers:
Description:
Copyright Text: Wildlife Conservation Society - WCS, and Center for International Earth Science Information Network - CIESIN - Columbia University
Spatial Reference:
102100
(3857)
Single Fused Map Cache: true
Tile Info:
- Height: 256
- Width: 256
- DPI: 96
-
Levels of Detail: 20
-
Level ID: 1
[ Start Tile, End Tile ]
- Resolution: 78271.5169639999
- Scale: 2.95828763795777E8
-
Level ID: 2
[ Start Tile, End Tile ]
- Resolution: 39135.7584820001
- Scale: 1.47914381897889E8
-
Level ID: 3
[ Start Tile, End Tile ]
- Resolution: 19567.8792409999
- Scale: 7.3957190948944E7
-
Level ID: 4
[ Start Tile, End Tile ]
- Resolution: 9783.93962049996
- Scale: 3.6978595474472E7
-
Level ID: 5
[ Start Tile, End Tile ]
- Resolution: 4891.96981024998
- Scale: 1.8489297737236E7
- Format: PNG
- Compression Quality: 0.0
- Origin: X: -2.0037508342787E7
Y: 2.0037508342787E7
- Spatial Reference: 102100
(3857)
Initial Extent:
XMin: -2.2171154885911055E7
YMin: 5862429.417015617
XMax: 2.2171140928811044E7
YMax: 1.9707294704145007E7
Spatial Reference: 102100
Full Extent:
XMin: -2.00375070672E7
YMin: -7555559.858399998
XMax: 2.00374931101E7
YMax: 1.8409063534500003E7
Spatial Reference: 102100
Units: esriMeters
Supported Image Format Types: PNG32,PNG24,PNG,JPG,DIB,TIFF,EMF,PS,PDF,GIF,SVG,SVGZ,BMP
Document Info:
Title: Last of the Wild
Author: NASA Socioeconomic Data and Applications Center (SEDAC)
Comments: Last of the Wild, v2 represents the least human influenced or wild areas of major terrestrial biomes based on the Human Footprint Index data set. The purpose is to provide an updated map of wild areas in geographic projection which can be used in wildlife conservation planning, natural resource management, and research on human-environment interactions.
Dataset Summary
The Last of the Wild Dataset of the Last of the Wild Project, Version 2, 2005 (LWP-2) is derived from the LWP-2 Human Footprint Dataset. Most wild in each biome is defined as areas with Human Footprint Index values less than or equal to 10. The gridded data are classified according to their raster value (wild = 0-10; not wild >10). The ten largest polygons of more than 5 square kilometers within each biome by realm are selected and identified. The dataset is produced by the Wildlife Conservation Society (WCS) and the Columbia University Center for International Earth Science Information Network (CIESIN) and is available in the Geographic Coordinate system.
Recommended Citation:
Wildlife Conservation Society - WCS, and Center for International Earth Science Information Network - CIESIN - Columbia University. 2005. Last of the Wild Project, Version 2, 2005 (LWP-2): Last of the Wild Dataset (Geographic). Palisades, NY: NASA Socioeconomic Data and Applications Center (SEDAC). http://dx.doi.org/10.7927/H4348H83. Accessed DAY MONTH YEAR.
Subject: Last of the Wild, v2 represents the least human influenced or wild areas of major terrestrial biomes based on the Human Footprint Index data set.
Category:
Keywords: Conservation,Remote Sensing,Sustainability
AntialiasingMode: None
TextAntialiasingMode: Force
Supports Dynamic Layers: false
MaxRecordCount: 1000
MaxImageHeight: 4096
MaxImageWidth: 4096
Supported Query Formats: JSON, AMF, geoJSON
Min Scale: 2.95828763795777E8
Max Scale: 577790.554289
Supports Datum Transformation: true
Child Resources:
Info
Supported Operations:
Export Map
Identify
Find
Return Updates