View In:
ArcGIS JavaScript
ArcGIS Online Map Viewer
ArcGIS Earth
ArcMap
View Footprint In:
ArcGIS Online Map Viewer
Service Description: Census/projection-based population estimates by age and sex for year 2020 constrained to 3 arc-second (~100 metre) grid cells representing built-up areas. Population distribution is estimated statistically with country totals adjusted to match United Nations national population totals (UN WPP 2019) and constrained to settled pixels.
Name: grid3-covid19/worldpop_agesex_2020_UNadj_constrained
Description: Census/projection-based population estimates by age and sex for year 2020 constrained to 3 arc-second (~100 metre) grid cells representing built-up areas. Population distribution is estimated statistically with country totals adjusted to match United Nations national population totals (UN WPP 2019) and constrained to settled pixels.
Single Fused Map Cache: false
Extent:
XMin: -25.362083216949998
YMin: -46.98291627779
XMax: 63.50374976092
YMax: 37.56041671737
Spatial Reference: 4326
(4326)
Initial Extent:
XMin: -25.362083216949998
YMin: -46.98291627779
XMax: 63.50374976092
YMax: 37.56041671737
Spatial Reference: 4326
(4326)
Full Extent:
XMin: -25.362083216949998
YMin: -46.98291627779
XMax: 63.50374976092
YMax: 37.56041671737
Spatial Reference: 4326
(4326)
Pixel Size X: 8.3333333E-4
Pixel Size Y: 8.3333333E-4
Band Count: 36
Pixel Type: F32
RasterFunction Infos: {"rasterFunctionInfos": [
{
"name": "f_0_2020",
"description": "Extract and symbolize the f_0_2020 band.",
"help": ""
},
{
"name": "None",
"description": "A No-Op Function.",
"help": ""
},
{
"name": "f_1_2020",
"description": "Extract and symbolize the f_1_2020 band.",
"help": ""
},
{
"name": "f_5_2020",
"description": "Extract and symbolize the f_5_2020 band.",
"help": ""
},
{
"name": "f_10_2020",
"description": "Extract and symbolize the f_10_2020 band.",
"help": ""
},
{
"name": "f_15_2020",
"description": "Extract and symbolize the f_15_2020 band.",
"help": ""
},
{
"name": "f_20_2020",
"description": "Extract and symbolize the f_20_2020 band.",
"help": ""
},
{
"name": "f_25_2020",
"description": "Extract and symbolize the f_25_2020 band.",
"help": ""
},
{
"name": "f_30_2020",
"description": "Extract and symbolize the f_30_2020 band.",
"help": ""
},
{
"name": "f_35_2020",
"description": "Extract and symbolize the f_35_2020 band.",
"help": ""
},
{
"name": "f_40_2020",
"description": "Extract and symbolize the f_40_2020 band.",
"help": ""
},
{
"name": "f_45_2020",
"description": "Extract and symbolize the f_45_2020 band.",
"help": ""
},
{
"name": "f_50_2020",
"description": "Extract and symbolize the f_50_2020 band.",
"help": ""
},
{
"name": "f_55_2020",
"description": "Extract and symbolize the f_55_2020 band.",
"help": ""
},
{
"name": "f_60_2020",
"description": "Extract and symbolize the f_60_2020 band.",
"help": ""
},
{
"name": "f_65_2020",
"description": "Extract and symbolize the f_65_2020 band.",
"help": ""
},
{
"name": "f_70_2020",
"description": "Extract and symbolize the f_70_2020 band.",
"help": ""
},
{
"name": "f_75_2020",
"description": "Extract and symbolize the f_75_2020 band.",
"help": ""
},
{
"name": "f_80_2020",
"description": "Extract and symbolize the f_80_2020 band.",
"help": ""
},
{
"name": "m_0_2020",
"description": "Extract and symbolize the m_0_2020 band.",
"help": ""
},
{
"name": "m_1_2020",
"description": "Extract and symbolize the m_1_2020 band.",
"help": ""
},
{
"name": "m_5_2020",
"description": "Extract and symbolize the m_5_2020 band.",
"help": ""
},
{
"name": "m_10_2020",
"description": "Extract and symbolize the m_10_2020 band.",
"help": ""
},
{
"name": "m_15_2020",
"description": "Extract and symbolize the m_15_2020 band.",
"help": ""
},
{
"name": "m_20_2020",
"description": "Extract and symbolize the m_20_2020 band.",
"help": ""
},
{
"name": "m_25_2020",
"description": "Extract and symbolize the m_25_2020 band.",
"help": ""
},
{
"name": "m_30_2020",
"description": "Extract and symbolize the m_30_2020 band.",
"help": ""
},
{
"name": "m_35_2020",
"description": "Extract and symbolize the m_35_2020 band.",
"help": ""
},
{
"name": "m_40_2020",
"description": "Extract and symbolize the m_40_2020 band.",
"help": ""
},
{
"name": "m_45_2020",
"description": "Extract and symbolize the m_45_2020 band.",
"help": ""
},
{
"name": "m_50_2020",
"description": "Extract and symbolize the m_50_2020 band.",
"help": ""
},
{
"name": "m_55_2020",
"description": "Extract and symbolize the m_55_2020 band.",
"help": ""
},
{
"name": "m_60_2020",
"description": "Extract and symbolize the m_60_2020 band.",
"help": ""
},
{
"name": "m_65_2020",
"description": "Extract and symbolize the m_65_2020 band.",
"help": ""
},
{
"name": "m_70_2020",
"description": "Extract and symbolize the m_70_2020 band.",
"help": ""
},
{
"name": "m_75_2020",
"description": "Extract and symbolize the m_75_2020 band.",
"help": ""
},
{
"name": "m_80_2020",
"description": "Extract and symbolize the m_80_2020 band.",
"help": ""
}
]}
Mensuration Capabilities: Basic
Has Histograms: true
Has Colormap: false
Has Multi Dimensions : false
Rendering Rule:
Min Scale: 0
Max Scale: 0
Copyright Text: WorldPop
Service Data Type: esriImageServiceDataTypeGeneric
Min Values: 0.05840183627879014, 0.06434615701436996, 0.08192157745361328, 0.058807019144296646, 0.07637447863817215, 0.06923042237758636, 0.04718416929244996, 0.0389639250934124, 0.027782190591096878, 0.022861326113343242, 0.013529655523598194, 0.01143024303019047, 0.06410051882266998, 0.007599695585668088, 0.006445734295994043, 0.003097321605309844, 0.0019540097564458847, 0.0017325005028396845, 0.013272983953356743, 0.05574164912104607, 0.06708820164203645, 0.05958886444568635, 0.07776512950658798, 0.07049097865819931, 0.04804330691695213, 0.039673388004302985, 0.028288055211305625, 0.026736021041870117, 0.0158227551728487, 0.013367519713938236, 0.057325445115566254, 0.009988515637814999, 0.007404005620628595, 0.0035086346324533224, 0.0017116139642894268, 0.0013569459551945329
Max Values: 533.6002427339554, 71.01247801081627, 63.44272363971686, 56.66117944072175, 54.19891330994142, 48.62876418975793, 42.18026417755027, 33.332377523358446, 25.547077409530175, 18.441840603954915, 12.122267539671157, 8.863974010564561, 72.54103262058925, 5.639917170181434, 4.494658546704159, 2.8852212251440505, 1.7197325616757553, 0.8957713223312567, 16.51970122113562, 67.43922816486156, 60.25037072865234, 55.97734839403711, 45.445855117468454, 40.77527893271326, 35.36820691889443, 27.94924147740312, 21.421255682282208, 15.950257841814164, 10.48448611195272, 7.6664047842496075, 68.89087557257153, 5.104131490923464, 3.8874072663375046, 2.3480607988431075, 1.3995591942225474, 0.7663561448407563
Mean Values: 0.8594801701063869, 1.2941755077264883, 1.1402921785154698, 1.282557426322045, 1.0068331911115285, 0.8687574356768772, 0.7025195777135492, 0.5822195315332065, 0.4727648257465077, 0.36300786522671197, 0.2842264478882782, 0.23483398944179015, 1.475746031171236, 0.17827985749100375, 0.1349540569864726, 0.0781169826193351, 0.04525301419532998, 0.028724805670921436, 0.3469003445992567, 1.2637516121707502, 1.0856328003697173, 1.3200376204960906, 0.9123977893899365, 0.7752985299360337, 0.6295797432682438, 0.5141231451406532, 0.41818379300310043, 0.35232294844514633, 0.2721981349741264, 0.2195738799404371, 1.4632560416876124, 0.1670069714512872, 0.12366425819087039, 0.07163353808001546, 0.03992600215007311, 0.02509595319467956
Standard Deviation Values: 2.954487164780334, 2.9813678023658485, 2.8647835057666162, 2.6304626272103064, 2.5358055037406557, 2.2646194646297997, 1.8163335116997943, 1.456327380780138, 1.1120764077759333, 0.8428928849797628, 0.5761037375903012, 0.4595437727864358, 3.114780751032406, 0.31538386360074777, 0.2432514585782767, 0.12483839720789058, 0.07679170879720532, 0.04938680389700677, 0.7085054047611234, 2.8005865821777687, 2.6339000048524057, 2.5838634527800988, 2.3222545953872458, 2.080420091471405, 1.6366191965099797, 1.3171514268376137, 0.9981110346430357, 0.8234884055452818, 0.5521764881800515, 0.4442160120197327, 2.9402951169943585, 0.3035036159465047, 0.21994428330550256, 0.11499742871467442, 0.067813540810217, 0.04173093358059886
Object ID Field: OBJECTID
Fields:
-
OBJECTID
(
type: esriFieldTypeOID, alias: OBJECTID
)
-
Shape
(
type: esriFieldTypeGeometry, alias: Shape
)
-
Name
(
type: esriFieldTypeString, alias: Name, length: 200
)
-
MinPS
(
type: esriFieldTypeDouble, alias: MinPS
)
-
MaxPS
(
type: esriFieldTypeDouble, alias: MaxPS
)
-
LowPS
(
type: esriFieldTypeDouble, alias: LowPS
)
-
HighPS
(
type: esriFieldTypeDouble, alias: HighPS
)
-
Category
(
type: esriFieldTypeInteger, alias: Category
, Coded Values:
[0: Unknown]
, [1: Primary]
, [2: Overview]
, ...6 more...
)
-
Tag
(
type: esriFieldTypeString, alias: Tag, length: 100
)
-
GroupName
(
type: esriFieldTypeString, alias: GroupName, length: 100
)
-
ProductName
(
type: esriFieldTypeString, alias: ProductName, length: 100
)
-
CenterX
(
type: esriFieldTypeDouble, alias: CenterX
)
-
CenterY
(
type: esriFieldTypeDouble, alias: CenterY
)
-
ZOrder
(
type: esriFieldTypeInteger, alias: ZOrder
)
-
Thumbnail
(
type: esriFieldTypeBlob, alias: Thumbnail
)
-
Shape_Length
(
type: esriFieldTypeDouble, alias: Shape_Length
)
-
Shape_Area
(
type: esriFieldTypeDouble, alias: Shape_Area
)
Default Mosaic Method: Northwest
Allowed Mosaic Methods: NorthWest,Center,LockRaster,ByAttribute,Nadir,Viewpoint,Seamline,None
SortField:
SortValue: null
Mosaic Operator: First
Default Compression Quality: 75
Default Resampling Method: Nearest
Max Record Count: 1000
Max Image Height: 4100
Max Image Width: 15000
Max Download Image Count: 20
Max Mosaic Image Count: 20
Allow Raster Function: true
Allow Copy: null
Allow Analysis: null
Allow Compute TiePoints: false
Supports Statistics: true
Supports Advanced Queries: true
Use StandardizedQueries: true
Raster Type Infos:
Name: Raster Dataset
Description: Supports all ArcGIS Raster Datasets
Help:
Has Raster Attribute Table: false
Edit Fields Info: null
Ownership Based AccessControl For Rasters: null
Child Resources:
Info
Histograms
Key Properties
Legend
Raster Function Infos
Supported Operations:
Export Image
Query
Identify
Measure
Compute Histograms
Compute Statistics Histograms
Get Samples
Compute Class Statistics
Query Boundary
Compute Pixel Location
Validate
Project