View In:
ArcGIS JavaScript
ArcGIS Online map viewer
Google Earth
ArcMap
View Footprint In:
ArcGIS Online map viewer
Service Description: This index is created with a principal component analysis (PCA) with a list of indicators of socio-economic status at the household level (non-farm employment, farmland ownership, livestock ownership, educational attainment), housing type (material for roof, floor, and walls), food security (proxied by child wasting), financial inclusion (household member has a bank account), and domestic violence (household experienced physical, sexual, or emotional abuse of women at last once in a year). This index takes into account urban and rural differences by conducting the PCA for urban and rural settings and combining results for a national index.
Name: grid3/sle_socioeconomic_index
Description: This index is created with a principal component analysis (PCA) with a list of indicators of socio-economic status at the household level (non-farm employment, farmland ownership, livestock ownership, educational attainment), housing type (material for roof, floor, and walls), food security (proxied by child wasting), financial inclusion (household member has a bank account), and domestic violence (household experienced physical, sexual, or emotional abuse of women at last once in a year). This index takes into account urban and rural differences by conducting the PCA for urban and rural settings and combining results for a national index.
Single Fused Map Cache: false
Extent:
XMin: -13.303749932
YMin: 6.917083507000001
XMax: -10.265416611
YMax: 10.000416827817336
Spatial Reference: 4326
(4326)
Initial Extent:
XMin: -13.303749932
YMin: 6.917083507000001
XMax: -10.265416611
YMax: 10.000416827817336
Spatial Reference: 4326
(4326)
Full Extent:
XMin: -13.303749932
YMin: 6.917083507000001
XMax: -10.265416611
YMax: 10.000416827817336
Spatial Reference: 4326
(4326)
Pixel Size X: 8.333333299506312E-4
Pixel Size Y: 8.333333299506311E-4
Band Count: 1
Pixel Type: U8
RasterFunction Infos: {"name":"sle_socioeconomic_symbology","description":"A raster function template.","help":""}, {"name":"None","description":"A No-Op Function.","help":""}
Mensuration Capabilities: Basic
Has Histograms: true
Has Colormap: false
Has Multi Dimensions : false
Rendering Rule:
Min Scale: 0
Max Scale: 0
Copyright Text: Funding for the development and dissemination of this data set was provided by the Bill & Melinda Gates Foundation. Data Citation: Fraym. 2020. GRID3 Sierra Leone Socioeconomic Vulnerability Profile: Gridded Estimates of Population Vulnerability to COVID-19. Palisades, NY: Geo-Referenced Infrastructure and Demographic Data for Development (GRID3). URL. Accessed DAY MONTH YEAR
Service Data Type: esriImageServiceDataTypeGeneric
Min Values: 1.0078125
Max Values: 4.9921875
Mean Values: 1.0682526556284413
Standard Deviation Values: 0.013331626387083448
Object ID Field: OBJECTID
Fields:
-
OBJECTID
(
type: esriFieldTypeOID
, alias: OBJECTID
)
-
Shape
(
type: esriFieldTypeGeometry
, alias: Shape
)
-
Name
(
type: esriFieldTypeString
, alias: Name
, length: 200
)
-
MinPS
(
type: esriFieldTypeDouble
, alias: MinPS
)
-
MaxPS
(
type: esriFieldTypeDouble
, alias: MaxPS
)
-
LowPS
(
type: esriFieldTypeDouble
, alias: LowPS
)
-
HighPS
(
type: esriFieldTypeDouble
, alias: HighPS
)
-
Category
(
type: esriFieldTypeInteger
, alias: Category
, Coded Values:
[0: Unknown]
, [1: Primary]
, [2: Overview]
, ...6 more...
)
-
Tag
(
type: esriFieldTypeString
, alias: Tag
, length: 100
)
-
GroupName
(
type: esriFieldTypeString
, alias: GroupName
, length: 100
)
-
ProductName
(
type: esriFieldTypeString
, alias: ProductName
, length: 100
)
-
CenterX
(
type: esriFieldTypeDouble
, alias: CenterX
)
-
CenterY
(
type: esriFieldTypeDouble
, alias: CenterY
)
-
ZOrder
(
type: esriFieldTypeInteger
, alias: ZOrder
)
-
Thumbnail
(
type: esriFieldTypeBlob
, alias: Thumbnail
)
-
Shape_Length
(
type: esriFieldTypeDouble
, alias: Shape_Length
)
-
Shape_Area
(
type: esriFieldTypeDouble
, alias: Shape_Area
)
Default Mosaic Method: Northwest
Allowed Mosaic Methods: NorthWest,Center,LockRaster,ByAttribute,Nadir,Viewpoint,Seamline,None
SortField:
SortValue: null
Mosaic Operator: First
Default Compression Quality: 75
Default Resampling Method: Nearest
Max Record Count: 1000
Max Image Height: 4100
Max Image Width: 15000
Max Download Image Count: 20
Max Mosaic Image Count: 20
Allow Raster Function: true
Allow Compute TiePoints: false
Supports Statistics: true
Supports Advanced Queries: true
Use StandardizedQueries: true
Raster Type Infos:
Name: Raster Dataset
Description: Supports all ArcGIS Raster Datasets
Help:
Has Raster Attribute Table: false
Edit Fields Info: null
Ownership Based AccessControl For Rasters: null
Child Resources:
Info
Histograms
Key Properties
Legend
MultiDimensionalInfo
rasterFunctionInfos
Supported Operations:
Export Image
Query
Identify
Measure
Compute Histograms
Compute Statistics Histograms
Get Samples
Compute Class Statistics