View In:
ArcGIS JavaScript
ArcGIS Online map viewer
Google Earth
ArcMap
View Footprint In:
ArcGIS Online map viewer
Service Description: The High Resolution Settlement Layer (HRSL) provides detailed estimates of population counts at 1 arc-second (~30m). The population counts are based on census data and settlement extents created based on high resolution satellite imagery. For details, see: https://dataforgood.fb.com/tools/population-density-maps/
Name: hrsl_population_counts
Description: The High Resolution Settlement Layer (HRSL) provides detailed estimates of population counts at 1 arc-second (~30m). The population counts are based on census data and settlement extents created based on high resolution satellite imagery. For details, see: https://dataforgood.fb.com/tools/population-density-maps/
Single Fused Map Cache: false
Extent:
XMin: -179.91736111118178
YMin: -55.985972222266824
XMax: 179.8293055557727
YMax: 71.33069444450169
Spatial Reference: 4326
(4326)
Initial Extent:
XMin: -179.91736111118178
YMin: -55.985972222266824
XMax: 179.8293055557727
YMax: 71.33069444450169
Spatial Reference: 4326
(4326)
Full Extent:
XMin: -179.91736111118178
YMin: -55.985972222266824
XMax: 179.8293055557727
YMax: 71.33069444450169
Spatial Reference: 4326
(4326)
Pixel Size X: 2.77777777778E-4
Pixel Size Y: 2.77777777778E-4
Band Count: 1
Pixel Type: F64
RasterFunction Infos: {"name":"population_classified","description":"A raster function template.","help":""}, {"name":"None","description":"A No-Op Function.","help":""}, {"name":"population_stretched","description":"A raster function template.","help":""}
Mensuration Capabilities: Basic
Has Histograms: true
Has Colormap: false
Has Multi Dimensions : false
Rendering Rule:
Min Scale: 0
Max Scale: 0
Copyright Text: Facebook, CIESIN
Service Data Type: esriImageServiceDataTypeGeneric
Min Values: 9.930171298540371E-5
Max Values: 27057.519692042366
Mean Values: 5.068530866396657
Standard Deviation Values: 11.230906871267374
Object ID Field: OBJECTID
Fields:
-
OBJECTID
(
type: esriFieldTypeOID
, alias: OBJECTID
)
-
Shape
(
type: esriFieldTypeGeometry
, alias: Shape
)
-
Name
(
type: esriFieldTypeString
, alias: Name
, length: 200
)
-
MinPS
(
type: esriFieldTypeDouble
, alias: MinPS
)
-
MaxPS
(
type: esriFieldTypeDouble
, alias: MaxPS
)
-
LowPS
(
type: esriFieldTypeDouble
, alias: LowPS
)
-
HighPS
(
type: esriFieldTypeDouble
, alias: HighPS
)
-
Category
(
type: esriFieldTypeInteger
, alias: Category
, Coded Values:
[0: Unknown]
, [1: Primary]
, [2: Overview]
, ...6 more...
)
-
Tag
(
type: esriFieldTypeString
, alias: Tag
, length: 100
)
-
GroupName
(
type: esriFieldTypeString
, alias: GroupName
, length: 100
)
-
ProductName
(
type: esriFieldTypeString
, alias: ProductName
, length: 100
)
-
CenterX
(
type: esriFieldTypeDouble
, alias: CenterX
)
-
CenterY
(
type: esriFieldTypeDouble
, alias: CenterY
)
-
ZOrder
(
type: esriFieldTypeInteger
, alias: ZOrder
)
-
Thumbnail
(
type: esriFieldTypeBlob
, alias: Thumbnail
)
-
Shape_Length
(
type: esriFieldTypeDouble
, alias: Shape_Length
)
-
Shape_Area
(
type: esriFieldTypeDouble
, alias: Shape_Area
)
Default Mosaic Method: Northwest
Allowed Mosaic Methods: NorthWest,Center,LockRaster,ByAttribute,Nadir,Viewpoint,Seamline,None
SortField:
SortValue: null
Mosaic Operator: Sum
Default Compression Quality: 75
Default Resampling Method: Nearest
Max Record Count: 1000
Max Image Height: 4100
Max Image Width: 15000
Max Download Image Count: 20
Max Mosaic Image Count: 20
Allow Raster Function: true
Allow Compute TiePoints: false
Supports Statistics: true
Supports Advanced Queries: true
Use StandardizedQueries: true
Raster Type Infos:
Name: Raster Dataset
Description: Supports all ArcGIS Raster Datasets
Help:
Has Raster Attribute Table: false
Edit Fields Info: null
Ownership Based AccessControl For Rasters: null
Child Resources:
Info
Histograms
Key Properties
Legend
MultiDimensionalInfo
rasterFunctionInfos
Supported Operations:
Export Image
Query
Identify
Download Rasters
Measure
Compute Histograms
Compute Statistics Histograms
Get Samples
Compute Class Statistics