View In:
ArcGIS JavaScript
ArcGIS Online map viewer
Google Earth
ArcMap
ArcGIS Explorer
View Footprint In:
ArcGIS Online map viewer
Service Description: The Food Insecurity Hotspots Data Set consists of grids at 250 meter (~7.2 arc-seconds) resolution that identify the level of intensity and frequency of food insecurity over the 10 years between 2009 and 2019, as well as hotspot areas that have experienced consecutive food insecurity events. The gridded data are based on subnational food security analysis provided by FEWS NET (Famine Early Warning Systems Network) in five (5) regions, including Central America and the Caribbean, Central Asia, East Africa, Southern Africa, and West Africa. Based on the Integrated Food Security Phase Classification (IPC), food insecurity is defined as Minimal, Stressed, Crisis, Emergency, and Famine.
Map Name: Layers
Legend
All Layers and Tables
Dynamic Legend
Dynamic All Layers
Layers:
Description:
Copyright Text: Center for International Earth Science Information Network - CIESIN - Columbia University
Spatial Reference:
102100
(3857)
Single Fused Map Cache: true
Tile Info:
- Height: 256
- Width: 256
- DPI: 96
-
Levels of Detail: 20
-
Level ID: 0
[ Start Tile, End Tile ]
- Resolution: 156543.03392800014
- Scale: 5.91657527591555E8
-
Level ID: 1
[ Start Tile, End Tile ]
- Resolution: 78271.51696399994
- Scale: 2.95828763795777E8
-
Level ID: 2
[ Start Tile, End Tile ]
- Resolution: 39135.75848200009
- Scale: 1.47914381897889E8
-
Level ID: 3
[ Start Tile, End Tile ]
- Resolution: 19567.87924099992
- Scale: 7.3957190948944E7
-
Level ID: 4
[ Start Tile, End Tile ]
- Resolution: 9783.93962049996
- Scale: 3.6978595474472E7
-
Level ID: 5
[ Start Tile, End Tile ]
- Resolution: 4891.96981024998
- Scale: 1.8489297737236E7
- Format: MIXED
- Compression Quality: 75.0
- Origin: X: -2.0037508342787E7
Y: 2.0037508342787E7
- Spatial Reference: 102100
(3857)
Initial Extent:
XMin: -2.0037507067161843E7
YMin: -2785349.448087438
XMax: 2.0037507067161843E7
YMax: 3.024097195838615E7
Spatial Reference: 102100
Full Extent:
XMin: -1.0268276055818187E7
YMin: -3107075.203792691
XMax: 8335437.2455536965
YMax: 4647928.842130484
Spatial Reference: 102100
Units: esriMeters
Supported Image Format Types: PNG32,PNG24,PNG,JPG,DIB,TIFF,EMF,PS,PDF,GIF,SVG,SVGZ,BMP
Document Info:
Title: Food Insecurity Hotspots
Author: Center for International Earth Science Information Network - CIESIN - Columbia University
Comments: The Food Insecurity Hotspots Data Set consists of grids at 250 meter (~7.2 arc-seconds) resolution that identify the level of intensity and frequency of food insecurity over the 10 years between 2009 and 2019, as well as hotspot areas that have experienced consecutive food insecurity events. The gridded data are based on subnational food security analysis provided by FEWS NET (Famine Early Warning Systems Network) in five (5) regions, including Central America and the Caribbean, Central Asia, East Africa, Southern Africa, and West Africa. Based on the Integrated Food Security Phase Classification (IPC), food insecurity is defined as Minimal, Stressed, Crisis, Emergency, and Famine.
Subject: To provide gridded data of intensity, frequency, and hotspot areas that have experienced consecutive food insecurity events for 2009-2019.
Category:
Keywords: agriculture; climate; governance; hazards; health; poverty; sustainability; food-food-insecurity-hotspots; food-food-insecurity-hotspots_duration-crisis ;food-food-insecurity-hotspots_duration-emergency;food-food-insecurity-hotspots_duration-famine
AntialiasingMode: None
TextAntialiasingMode: Force
Supports Dynamic Layers: true
MaxRecordCount: 1000
MaxImageHeight: 4096
MaxImageWidth: 4096
Supported Query Formats: JSON, AMF, geoJSON
Min Scale: 5.91657527591555E8
Max Scale: 2311162.217155
Supports Datum Transformation: true
Child Resources:
Info
Dynamic Layer
Supported Operations:
Export Map
Identify
Find
Return Updates